BEGIN:VCALENDAR
VERSION:2.0
PRODID:-//Garden District Association - ECPv6.15.20//NONSGML v1.0//EN
CALSCALE:GREGORIAN
METHOD:PUBLISH
X-ORIGINAL-URL:https://gardendistrictassociation.com
X-WR-CALDESC:Events for Garden District Association
REFRESH-INTERVAL;VALUE=DURATION:PT1H
X-Robots-Tag:noindex
X-PUBLISHED-TTL:PT1H
BEGIN:VTIMEZONE
TZID:UTC
BEGIN:STANDARD
TZOFFSETFROM:+0000
TZOFFSETTO:+0000
TZNAME:UTC
DTSTART:20240101T000000
END:STANDARD
END:VTIMEZONE
BEGIN:VEVENT
DTSTART;TZID=UTC:20250928T180000
DTEND;TZID=UTC:20250928T220000
DTSTAMP:20260424T045134
CREATED:20170420T093344Z
LAST-MODIFIED:20250918T001748Z
UID:573-1759082400-1759096800@gardendistrictassociation.com
SUMMARY:Fall Affair
DESCRIPTION:Our annual fundraiser at the internationally famous Commander’s Palace. It’s always a wonderful affair with great music\, fun company and a meal to call home about. Hope you’ll join us. \nClick here for more information.  2025 SOLD OUT 
URL:https://gardendistrictassociation.com/event/fall-affair/
END:VEVENT
END:VCALENDAR