BEGIN:VCALENDAR
VERSION:2.0
PRODID:-//Garden District Association - ECPv6.15.20//NONSGML v1.0//EN
CALSCALE:GREGORIAN
METHOD:PUBLISH
X-WR-CALNAME:Garden District Association
X-ORIGINAL-URL:https://gardendistrictassociation.com
X-WR-CALDESC:Events for Garden District Association
REFRESH-INTERVAL;VALUE=DURATION:PT1H
X-Robots-Tag:noindex
X-PUBLISHED-TTL:PT1H
BEGIN:VTIMEZONE
TZID:UTC
BEGIN:STANDARD
TZOFFSETFROM:+0000
TZOFFSETTO:+0000
TZNAME:UTC
DTSTART:20240101T000000
END:STANDARD
END:VTIMEZONE
BEGIN:VTIMEZONE
TZID:America/Los_Angeles
BEGIN:DAYLIGHT
TZOFFSETFROM:-0800
TZOFFSETTO:-0700
TZNAME:PDT
DTSTART:20250309T100000
END:DAYLIGHT
BEGIN:STANDARD
TZOFFSETFROM:-0700
TZOFFSETTO:-0800
TZNAME:PST
DTSTART:20251102T090000
END:STANDARD
BEGIN:DAYLIGHT
TZOFFSETFROM:-0800
TZOFFSETTO:-0700
TZNAME:PDT
DTSTART:20260308T100000
END:DAYLIGHT
BEGIN:STANDARD
TZOFFSETFROM:-0700
TZOFFSETTO:-0800
TZNAME:PST
DTSTART:20261101T090000
END:STANDARD
BEGIN:DAYLIGHT
TZOFFSETFROM:-0800
TZOFFSETTO:-0700
TZNAME:PDT
DTSTART:20270314T100000
END:DAYLIGHT
BEGIN:STANDARD
TZOFFSETFROM:-0700
TZOFFSETTO:-0800
TZNAME:PST
DTSTART:20271107T090000
END:STANDARD
END:VTIMEZONE
BEGIN:VEVENT
DTSTART;TZID=UTC:20251031T173000
DTEND;TZID=UTC:20251031T210000
DTSTAMP:20260424T074901
CREATED:20201003T051714Z
LAST-MODIFIED:20250810T013851Z
UID:575-1761931800-1761944400@gardendistrictassociation.com
SUMMARY:Halloween Under The Oaks 2025
DESCRIPTION:Celebrate Halloween with Trick or Treat Under the Oaks!\nTrick-or-Treat a designated Safe House Route through the Garden District\, 5:30 p.m. till 7:00 p.m. \nA catered Family Party and Costume Contest at 2707 Coliseum Street\, 7:00 p.m. till 9:00 p.m. \n\n\n\nTICKETS\n\n\n\n\nGDA members:\nAdult = $15.00\nChild (2-17) = $10.00\n\n\nNon-GDA members:\nAdult = $20.00\nChild (2-17) = $15.00\n\n\n\nTickets will go on sale starting October 1  through Oct 27 or until sold out. Tickets will be mailed or delivered if ordered by  Oct 24 to locations within the Garden District.  All others must  be picked  at the David Spielman Gallery\, 1332 Washington Avenue.  Tickets ordered after Oct 24 can be picked up from the gallery as well.   Tickets will not be sold at the door. \n*Under 2 Free.**Anyone under 18 must be accompanied by an adult \nA Special Thanks To\n\nTina and Deryk Jones for use of their beautiful yard and décor\nCommittee – Jennifer Gary\, Tina Jones\, Julie Shugar\nTrick or Treat House participants
URL:https://gardendistrictassociation.com/event/halloween-under-the-oaks-2023/
END:VEVENT
BEGIN:VEVENT
DTSTART;TZID=America/Los_Angeles:20260128T180000
DTEND;TZID=America/Los_Angeles:20260128T193000
DTSTAMP:20260424T074901
CREATED:20260111T195952Z
LAST-MODIFIED:20260111T195952Z
UID:13195-1769623200-1769628600@gardendistrictassociation.com
SUMMARY:Joueurs De Jardin: Go Native
DESCRIPTION:Go Native: The Entertaining Plants  \n \nSip\, snack\, and swap ideas at the Joueurs de Jardin’s first of the year event\, where native plants take center stage both inside and outside the home.  Learn how choosing natives adds beauty and flavor (with plants that do more work than you do!) while supporting local ecosystems and a more eco-friendly garden. \n \nOur speaker\,  Tanya Mennear\, will share how she does this in her home and garden. Tanya\, born in England\, has lived in New Orleans for twenty years  – and worked and gardened in temperate\, Mediterranean and tropical zones. She has trained as a Master Gardener\, propagated native plants at the Botanic Gardens and served on the Board of the Native Plant Initiative of Greater New Orleans. She is a florist and a happy cook who loves to combine her passions by growing a native cutting garden.  \n \n \nPlease join us on January 28\, 2026 at 6 pm at Julia Lennox’s at 1313 8th Street. Come and grow a little wild with us!  Please reply to let us know if you will attend. \n \nJoueurs De Jardin Committee\nJulia Lennox\nFrank Wilder\nCarolyn Fitzpatrick\n\nAndrea St. Paul Bland\nShelley Landrieu\n \n\nNote:  All eligible J de J members must be current on their GDA dues.
URL:https://gardendistrictassociation.com/event/joueurs-de-jardin-go-native/
END:VEVENT
BEGIN:VEVENT
DTSTART;TZID=UTC:20260419T173000
DTEND;TZID=UTC:20260419T193000
DTSTAMP:20260424T074901
CREATED:20220302T001132Z
LAST-MODIFIED:20260414T150446Z
UID:569-1776619800-1776627000@gardendistrictassociation.com
SUMMARY:Jazz & Juleps/ Sorry\, Sold Out!
DESCRIPTION:Back by popular demand\, this fun-filled Spring\, Sunday supper on the lawn is accompanied by jazzy tunes and one of the city’s favorite concoctions\, Mint Juleps. Join GDA members and new neighbors for a festive Sunday evening. $80 per Garden District member and $90 per non member. \nDetails: \n\nWhen – Sunday\, April 19\, 2026 from 5:30 p.m. to 7:30 p.m.\nWhere – 2618 Coliseum Street\nPrice – $80 per GDA member and $90 per non-member\nHosted by Erika and Ted Elliott\nGarden Casual Attire\n\nTickets will go on sale on March 20. \n*Advanced reservations are required.
URL:https://gardendistrictassociation.com/event/jazz-juleps/
END:VEVENT
BEGIN:VEVENT
DTSTART;TZID=UTC:20260520T173000
DTEND;TZID=UTC:20260520T193000
DTSTAMP:20260424T074901
CREATED:20170420T093022Z
LAST-MODIFIED:20260309T192435Z
UID:571-1779298200-1779305400@gardendistrictassociation.com
SUMMARY:GDA Annual Membership Meeting and Reception
DESCRIPTION:Our annual gathering of members to elect new board members will be held on Wednesday\, May 20\, 2026 at the home of  Caroline Black and Louis Lamendola\, 2328 Coliseum Street beginning at 6:00 p.m.   This is a GDA members only event.   \nWe invite you to join our membership\, if you have not already done so\, and join us at this festive gathering.
URL:https://gardendistrictassociation.com/event/gda-annual-membership-meeting-and-reception/
END:VEVENT
BEGIN:VEVENT
DTSTART;TZID=UTC:20260611T180000
DTEND;TZID=UTC:20260611T200000
DTSTAMP:20260424T074901
CREATED:20170531T035528Z
LAST-MODIFIED:20260320T173617Z
UID:567-1781200800-1781208000@gardendistrictassociation.com
SUMMARY:Summer Splash
DESCRIPTION:Family Fun Event!\nBurgers\, beer and lots of fun by the pool at Camp Pleasant. \nThursday\, June 11 6 til 8 pm \n  \n$10pp for members.$12pp for non-members.Children under 3\, no charge.
URL:https://gardendistrictassociation.com/event/summer-splash/
LOCATION:Camp Pleasant\, corner of Camp and Pleasant
END:VEVENT
END:VCALENDAR